Workbook
Name Text190: Quarter1!#REF!
Name Text191: Quarter1!$F$47
Name Text233: Quarter1!$G$13
Name Text234: Quarter1!$F$15
Name Text248: Quarter1!$F$19
Name Text249: Quarter1!$C$27
Name Text250: Quarter1!$C$28
Name Text251: Quarter1!$E$30
Name Text252: Quarter1!$E$31
Name Text253: Quarter1!$E$32
Name Text254: Quarter1!#REF!
Name Text255: Quarter1!#REF!
Name Text256: Quarter1!$C$31
Name Text257: Quarter1!$C$30
Name Text258: Quarter1!$C$29
Name Text268: Quarter1!$F$50

Sheet 1Year3Year
B1: Attention Management System
B2: 1 Year / 3 Year | J2: =Quarter1!I1 -> Company:
B5: TEAM | G5: CLIENTS | M5: KEY SUPPORT
A6: 1 | F6: 1 | L6: 1
A7: 2 | F7: 2 | L7: 2
A8: 3 | F8: 3 | L8: 3
B10: CORE VALUES / BELIEFS | E10: PURPOSE | I10: TARGETS (3 YEARS) | M10: GOALS (1 YEAR)
B11: (Should/Shouldn’t) [Pick 6] | E11: (Big Why?) | I11: (Where?) | M11: (What?)
B13: Should Be : | I13: Yr Ending | M13: Yr Ending
I14: Revenues: | M14: Revenues:
I15: Cash: | M15: Cash:
I16: Profit: | M16: Income:
I17: Sandbox | M17: Sales #s 1 Year:
M18: Revenue | N18: # | O18: sales revenues
N19: =N25 -> 0
N20: =N26 -> 0
N21: =N27 -> 0
N22: =N28 -> 0
M23: Critical #s 1 Year:
M24: Rank | N24: # | O24: intended action
M25: 1
M26: 2
M27: 3
M28: 4
B29: Should Not: | E29: Actions | I29: Key Thrusts / Capabilities | M29: Key Initiatives
E30: To Live Values, Purpose, BHAG | I30: 3 Year Priorities | M30: Annual Priorities
E31: 1 | I31: 1 | M31: 1
E32: 2 | I32: 2 | M32: 2
E33: 3 | I33: 3 | M33: 3
E34: 4 | I34: 4 | M34: 4
E35: 5 | I35: 5 | M35: 5
B37: Core Competencies [Pick 6 ] | E37: Ideal Lifestyle Congruence / PIN-FIN | I37: Brand Promise Critical #s | M37: Critical # Projections:
M38: sum
M39: Q1 | O39: x3
M40: Q2 | O40: x2
M41: Q3 | O41: X1.33
M42: Q4
E43: BHAG® | I43: Brand Promise | M43: Critical # Projections:
M44: Q1 | O44: x3
M45: Q2 | O45: x2
...

Sheet WeeklyDaily
B1: ATTENTION MANAGEMENT
B2: To Do / To Be | G2: Person: | I2: "me"
F4: Day: | G4: Date: | L4: Month:
B5: Week: | M5: 1 | N5: NEWS - your goal progress?
M6: 2 | N6: WEATHER - market conditions?
C7: Critical Actions Weekly (Drivers) | M7: 3 | N7: TRAFFIC - what's in your way?
B8: 1
B9: 2
B10: 3
B11: 4
B12: status | C12: A | D12: B | E12: C | F12: TODAY'S ACTIONS PRIORITIZED | G12: [activity tracking] | L12: DAILY PRIORITIES | M12: Critical #s This Week (Target)
A13: 1 | B13: ToDo | G13: M | H13: T | I13: W | J13: Th | K13: F | M13: Rank | N13: # | O13: intended action
A14: =A13+1 -> 2 | B14: ToDo | M14: 1
A15: =A14+1 -> 3 | B15: ToDo | M15: 2
A16: =A15+1 -> 4 | B16: ToDo | M16: 3
A17: =A16+1 -> 5 | B17: ToDo | M17: 4
A18: =A17+1 -> 6 | B18: ToDo | G18: status | H18: Initiate | I18: Return | J18: CALLS | M18: Critical #s This Week (Actual)
A19: =A18+1 -> 7 | B19: ToDo | G19: ToDo | M19: Rank | N19: # | O19: intended action
A20: =A19+1 -> 8 | B20: ToDo | G20: ToDo | M20: 1
A21: =A20+1 -> 9 | B21: ToDo | G21: ToDo | M21: 2
A22: =A21+1 -> 10 | B22: ToDo | G22: ToDo | M22: 3
A23: =A22+1 -> 11 | B23: ToDo | G23: ToDo | M23: 4
A24: =A23+1 -> 12 | B24: ToDo | G24: ToDo | M24: Solution Totals
A25: =A24+1 -> 13 | B25: ToDo | G25: ToDo | M25: S1
M26: S2
C27: A | D27: B | E27: C | F27: UPCOMING CONSIDERATIONS | G27: DATE | H27: CONTENT | J27: LOCATION | L27: NOTES | M27: S3
B28: 1 | M28: S4
B29: =B28+1 -> 2 | M29: S5
B30: =B29+1 -> 3
B31: =B30+1 -> 4
C32: A | D32: B | E32: C | F32: STRATEGIC PLANNING NEEDED | G32: BY WHEN? | I32: WITH WHOM? | L32: KEY PRIORITIES
B33: 1
B34: =B33+1 -> 2
B35: =B34+1 -> 3
B36: 4
B37: 5
C38: Investment Research Stocks to Watch
C39: 1 | I39: 5
C40: =C39+1 -> 2 | I40: 6
C41: =C40+1 -> 3 | I41: 7
...

Sheet Quarter1
B1: 4 Quarters / 12 Months | I1: Company:
B2: PEOPLE
B4: Quarter:
B6: PRESENTATIONS | G6: SALES | L6: REFERRALS
A7: 1 | F7: 1 | K7: 1
A8: 2 | F8: 2 | K8: 2
A9: 3 | F9: 3 | K9: 3
B11: ACTIONS (QTR) | F11: THEME (QTR) | K11: Key Metrics (monthly)
B12: (How?) | F12: (Little Why?) | K12: (Must Hit Critical Numbers)
B13: Revenues | F13: Deadline: | K13: Critical #s This Month
B14: Income: | F14: Measurable Target / Critical # | K14: Rank | L14: # | M14: intended action
B15: Cash: | K15: 1
K16: 2
B17: Critical #s This Quarter | F17: Theme Idea / Name | K17: 3
B18: Rank | C18: # | D18: intended action | K18: 4
B19: 1 | K19: Rank | L19: Critical Actions Weekly (Drivers)
B20: 2 | K20: 1
B21: 3 | K21: 2
B22: 4 | K22: 3
K23: 4
B24: Top Priorities Quarter: | G24: Specific Action Needed: | K24: Specific Action Completed By:
B25: Rank | C25: Priorities | E25: Who? | F25: Rank | G25: Do What? | K25: Rank | L25: By When?
B26: 1 | F26: 1 | K26: 1
B27: 2 | F27: 2 | K27: 2
B28: 3 | F28: 3 | K28: 3
B29: 4 | F29: 4 | K29: 4
B30: 5 | F30: 5 | K30: 5
B32: Key Monthly Performance | F32: Scoreboard Design | K32: Weekly Accountability Critical #'s
B33: M1: Target | D33: actual | F33: Describe and / or sketch your design in this space | K33: Week: | L33: 1 | M33: 2 | N33: 3 | O33: 4
B34: =$C$19/3 -> 0 | K34: 1
B35: =$C$20/3 -> 0 | K35: 2
B36: =$C$21/3 -> 0 | K36: 3
B37: =$C$22/3 -> 0 | K37: 4
B38: M2: | D38: actual | K38: 5
B39: =$C$19/3 -> 0 | F39: Celebration | K39: 6
B40: =$C$20/3 -> 0 | K40: 7
B41: =$C$21/3 -> 0 | K41: 8
B42: =$C$22/3 -> 0 | K42: 9
B43: M3: | D43: actual | K43: 10
B44: =$C$19/3 -> 0 | K44: 11
...

Sheet Quarter2
B1: 4 Quarters / 12 Months | I1: Company: | L1: =Quarter1!L1 -> 0
B2: PEOPLE
B4: Quarter: | E4: 2
B6: PRESENTATIONS | G6: SALES | L6: REFERRALS
A7: 1 | F7: 1 | K7: 1
A8: 2 | F8: 2 | K8: 2
A9: 3 | F9: 3 | K9: 3
B11: ACTIONS (QTR) | F11: THEME (QTR) | K11: Key Metrics (monthly)
B12: (How?) | F12: (Little Why?) | K12: (Must Hit Critical Numbers)
B13: Revenues | D13: ='1Year3Year'!O14/4 -> 0 | F13: Deadline: | K13: Critical #s This Month
B14: Income: | D14: ='1Year3Year'!O16/4 -> 0 | F14: Measurable Target / Critical # | K14: Rank | L14: # | M14: intended action
B15: Cash: | D15: ='1Year3Year'!O15/4 -> 0 | K15: 1 | L15: =C19/3 -> 0 | M15: =D19 -> 0
K16: 2 | L16: =C20/3 -> 0 | M16: =D20 -> 0
B17: Critical #s This Quarter | F17: Theme Idea / Name | K17: 3 | L17: =C21/3 -> 0 | M17: =D21 -> 0
B18: Rank | C18: # | D18: intended action | K18: 4 | L18: =C22/3 -> 0 | M18: =D22 -> 0
B19: 1 | C19: ='1Year3Year'!B50 -> 0 | D19: ='1Year3Year'!O25 -> 0 | K19: Rank | L19: Critical Actions Weekly (Drivers)
B20: 2 | C20: ='1Year3Year'!B51 -> 0 | D20: ='1Year3Year'!O26 -> 0 | K20: 1
B21: 3 | C21: ='1Year3Year'!B52 -> 0 | D21: ='1Year3Year'!O27 -> 0 | K21: 2
B22: 4 | C22: ='1Year3Year'!B53 -> 0 | D22: ='1Year3Year'!O28 -> 0 | K22: 3
K23: 4
B24: Top Priorities Quarter: | G24: Specific Action Needed: | K24: Specific Action Completed By:
B25: Rank | C25: Priorities | E25: Who? | F25: Rank | G25: Do What? | K25: Rank | L25: By When?
B26: 1 | F26: 1 | K26: 1
B27: 2 | F27: 2 | K27: 2
B28: 3 | F28: 3 | K28: 3
B29: 4 | F29: 4 | K29: 4
B30: 5 | F30: 5 | K30: 5
B32: Key Monthly Performance | F32: Scoreboard Design | K32: Weekly Accountability Critical #'s
B33: M1: Target | D33: actual | F33: Describe and / or sketch your design in this space | K33: Week: | L33: 1 | M33: 2 | N33: 3 | O33: 4
B34: =$C$19/3 -> 0 | C34: =D19 -> 0 | E34: =SUM(L34:L37) -> 0 | K34: 1
B35: =$C$20/3 -> 0 | C35: =D20 -> 0 | E35: =SUM(M34:M37) -> 0 | K35: 2
B36: =$C$21/3 -> 0 | C36: =D21 -> 0 | E36: =SUM(N34:N37) -> 0 | K36: 3
B37: =$C$22/3 -> 0 | C37: =D22 -> 0 | E37: =SUM(O34:O37) -> 0 | K37: 4
B38: M2: | D38: actual | K38: 5
B39: =$C$19/3 -> 0 | C39: =D19 -> 0 | E39: =SUM(L38:L41) -> 0 | F39: Celebration | K39: 6
B40: =$C$20/3 -> 0 | C40: =D20 -> 0 | E40: =SUM(M38:M41) -> 0 | K40: 7
B41: =$C$21/3 -> 0 | C41: =D21 -> 0 | E41: =SUM(N38:N41) -> 0 | K41: 8
B42: =$C$22/3 -> 0 | C42: =D22 -> 0 | E42: =SUM(O38:O41) -> 0 | K42: 9
B43: M3: | D43: actual | K43: 10
B44: =$C$19/3 -> 0 | C44: =D19 -> 0 | E44: =SUM(L42:L45) -> 0 | K44: 11
...

Sheet Quarter3
B1: 4 Quarters / 12 Months | I1: Company: | L1: =Quarter2!L1 -> 0
B2: PEOPLE
B4: Quarter: | E4: 3
B6: PRESENTATIONS | G6: SALES | L6: REFERRALS
A7: 1 | F7: 1 | K7: 1
A8: 2 | F8: 2 | K8: 2
A9: 3 | F9: 3 | K9: 3
B11: ACTIONS (QTR) | F11: THEME (QTR) | K11: Key Metrics (monthly)
B12: (How?) | F12: (Little Why?) | K12: (Must Hit Critical Numbers)
B13: Revenues | D13: ='1Year3Year'!O14/4 -> 0 | F13: Deadline: | K13: Critical #s This Month
B14: Income: | D14: ='1Year3Year'!O16/4 -> 0 | F14: Measurable Target / Critical # | K14: Rank | L14: # | M14: intended action
B15: Cash: | D15: ='1Year3Year'!O15/4 -> 0 | K15: 1 | L15: =C19/3 -> 0 | M15: =D19 -> 0
K16: 2 | L16: =C20/3 -> 0 | M16: =D20 -> 0
B17: Critical #s This Quarter | F17: Theme Idea / Name | K17: 3 | L17: =C21/3 -> 0 | M17: =D21 -> 0
B18: Rank | C18: # | D18: intended action | K18: 4 | L18: =C22/3 -> 0 | M18: =D22 -> 0
B19: 1 | C19: ='1Year3Year'!B50 -> 0 | D19: ='1Year3Year'!O25 -> 0 | K19: Rank | L19: Critical Actions Weekly (Drivers)
B20: 2 | C20: ='1Year3Year'!B51 -> 0 | D20: ='1Year3Year'!O26 -> 0 | K20: 1
B21: 3 | C21: ='1Year3Year'!B52 -> 0 | D21: ='1Year3Year'!O27 -> 0 | K21: 2
B22: 4 | C22: ='1Year3Year'!B53 -> 0 | D22: ='1Year3Year'!O28 -> 0 | K22: 3
K23: 4
B24: Top Priorities Quarter: | G24: Specific Action Needed: | K24: Specific Action Completed By:
B25: Rank | C25: Priorities | E25: Who? | F25: Rank | G25: Do What? | K25: Rank | L25: By When?
B26: 1 | F26: 1 | K26: 1
B27: 2 | F27: 2 | K27: 2
B28: 3 | F28: 3 | K28: 3
B29: 4 | F29: 4 | K29: 4
B30: 5 | F30: 5 | K30: 5
B32: Key Monthly Performance | F32: Scoreboard Design | K32: Weekly Accountability Critical #'s
B33: M1: Target | D33: actual | F33: Describe and / or sketch your design in this space | K33: Week: | L33: 1 | M33: 2 | N33: 3 | O33: 4
B34: =$C$19/3 -> 0 | C34: =D19 -> 0 | E34: =SUM(L34:L37) -> 0 | K34: 1
B35: =$C$20/3 -> 0 | C35: =D20 -> 0 | E35: =SUM(M34:M37) -> 0 | K35: 2
B36: =$C$21/3 -> 0 | C36: =D21 -> 0 | E36: =SUM(N34:N37) -> 0 | K36: 3
B37: =$C$22/3 -> 0 | C37: =D22 -> 0 | E37: =SUM(O34:O37) -> 0 | K37: 4
B38: M2: | D38: actual | K38: 5
B39: =$C$19/3 -> 0 | C39: =D19 -> 0 | E39: =SUM(L38:L41) -> 0 | F39: Celebration | K39: 6
B40: =$C$20/3 -> 0 | C40: =D20 -> 0 | E40: =SUM(M38:M41) -> 0 | K40: 7
B41: =$C$21/3 -> 0 | C41: =D21 -> 0 | E41: =SUM(N38:N41) -> 0 | K41: 8
B42: =$C$22/3 -> 0 | C42: =D22 -> 0 | E42: =SUM(O38:O41) -> 0 | K42: 9
B43: M3: | D43: actual | K43: 10
B44: =$C$19/3 -> 0 | C44: =D19 -> 0 | E44: =SUM(L42:L45) -> 0 | K44: 11
...

Sheet Quarter4
B1: 4 Quarters / 12 Months | I1: Company: | L1: =Quarter3!L1 -> 0
B2: PEOPLE
B4: Quarter: | E4: 4
B6: PRESENTATIONS | G6: SALES | L6: REFERRALS
A7: 1 | F7: 1 | K7: 1
A8: 2 | F8: 2 | K8: 2
A9: 3 | F9: 3 | K9: 3
B11: ACTIONS (QTR) | F11: THEME (QTR) | K11: Key Metrics (monthly)
B12: (How?) | F12: (Little Why?) | K12: (Must Hit Critical Numbers)
B13: Revenues | D13: ='1Year3Year'!O14/4 -> 0 | F13: Deadline: | K13: Critical #s This Month
B14: Income: | D14: ='1Year3Year'!O16/4 -> 0 | F14: Measurable Target / Critical # | K14: Rank | L14: # | M14: intended action
B15: Cash: | D15: ='1Year3Year'!O15/4 -> 0 | K15: 1 | L15: =C19/3 -> 0 | M15: =D19 -> 0
K16: 2 | L16: =C20/3 -> 0 | M16: =D20 -> 0
B17: Critical #s This Quarter | F17: Theme Idea / Name | K17: 3 | L17: =C21/3 -> 0 | M17: =D21 -> 0
B18: Rank | C18: # | D18: intended action | K18: 4 | L18: =C22/3 -> 0 | M18: =D22 -> 0
B19: 1 | C19: ='1Year3Year'!B50 -> 0 | D19: ='1Year3Year'!O25 -> 0 | K19: Rank | L19: Critical Actions Weekly (Drivers)
B20: 2 | C20: ='1Year3Year'!B51 -> 0 | D20: ='1Year3Year'!O26 -> 0 | K20: 1
B21: 3 | C21: ='1Year3Year'!B52 -> 0 | D21: ='1Year3Year'!O27 -> 0 | K21: 2
B22: 4 | C22: ='1Year3Year'!B53 -> 0 | D22: ='1Year3Year'!O28 -> 0 | K22: 3
K23: 4
B24: Top Priorities Quarter: | G24: Specific Action Needed: | K24: Specific Action Completed By:
B25: Rank | C25: Priorities | E25: Who? | F25: Rank | G25: Do What? | K25: Rank | L25: By When?
B26: 1 | F26: 1 | K26: 1
B27: 2 | F27: 2 | K27: 2
B28: 3 | F28: 3 | K28: 3
B29: 4 | F29: 4 | K29: 4
B30: 5 | F30: 5 | K30: 5
B32: Key Monthly Performance | F32: Scoreboard Design | K32: Weekly Accountability Critical #'s
B33: M1: Target | D33: actual | F33: Describe and / or sketch your design in this space | K33: Week: | L33: 1 | M33: 2 | N33: 3 | O33: 4
B34: =$C$19/3 -> 0 | C34: =D19 -> 0 | E34: =SUM(L34:L37) -> 0 | K34: 1
B35: =$C$20/3 -> 0 | C35: =D20 -> 0 | E35: =SUM(M34:M37) -> 0 | K35: 2
B36: =$C$21/3 -> 0 | C36: =D21 -> 0 | E36: =SUM(N34:N37) -> 0 | K36: 3
B37: =$C$22/3 -> 0 | C37: =D22 -> 0 | E37: =SUM(O34:O37) -> 0 | K37: 4
B38: M2: | D38: actual | K38: 5
B39: =$C$19/3 -> 0 | C39: =D19 -> 0 | E39: =SUM(L38:L41) -> 0 | F39: Celebration | K39: 6
B40: =$C$20/3 -> 0 | C40: =D20 -> 0 | E40: =SUM(M38:M41) -> 0 | K40: 7
B41: =$C$21/3 -> 0 | C41: =D21 -> 0 | E41: =SUM(N38:N41) -> 0 | K41: 8
B42: =$C$22/3 -> 0 | C42: =D22 -> 0 | E42: =SUM(O38:O41) -> 0 | K42: 9
B43: M3: | D43: actual | K43: 10
B44: =$C$19/3 -> 0 | C44: =D19 -> 0 | E44: =SUM(L42:L45) -> 0 | K44: 11
...
